BEGIN:VCALENDAR
VERSION:2.0
PRODID:-//Tucson Pima Collaboration to End Homelessness - ECPv6.15.20//NONSGML v1.0//EN
CALSCALE:GREGORIAN
METHOD:PUBLISH
X-WR-CALNAME:Tucson Pima Collaboration to End Homelessness
X-ORIGINAL-URL:https://tpch.net
X-WR-CALDESC:Events for Tucson Pima Collaboration to End Homelessness
REFRESH-INTERVAL;VALUE=DURATION:PT1H
X-Robots-Tag:noindex
X-PUBLISHED-TTL:PT1H
BEGIN:VTIMEZONE
TZID:America/Phoenix
BEGIN:STANDARD
TZOFFSETFROM:-0700
TZOFFSETTO:-0700
TZNAME:MST
DTSTART:20250101T000000
END:STANDARD
END:VTIMEZONE
BEGIN:VEVENT
DTSTART;TZID=America/Phoenix:20260521T140000
DTEND;TZID=America/Phoenix:20260521T160000
DTSTAMP:20260419T180833
CREATED:20260218T010049Z
LAST-MODIFIED:20260415T222804Z
UID:10001949-1779372000-1779379200@tpch.net
SUMMARY:TPCH Continuum of Care Board Meeting
DESCRIPTION:Virtual portion available on \nVirtual portion available on Zoom: https://us06web.zoom.us/j/84704187185 \nZoom: https://us06web.zoom.us/j/84704187185
URL:https://tpch.net/event/tpch-continuum-of-care-board-meeting-35/2026-05-21/
LOCATION:310 N. Commerce Park Loop\, 2nd floor Sentinel Building
CATEGORIES:Board Directors
END:VEVENT
BEGIN:VEVENT
DTSTART;TZID=America/Phoenix:20260514T123000
DTEND;TZID=America/Phoenix:20260514T161500
DTSTAMP:20260419T180833
CREATED:20260416T002017Z
LAST-MODIFIED:20260416T002017Z
UID:10002008-1778761800-1778775300@tpch.net
SUMMARY:General Council Meeting
DESCRIPTION:
URL:https://tpch.net/event/general-council-meeting/2026-05-14/
LOCATION:Community Foundation for Southern Arizona (5049 E Broadway Blvd Ste 201\, Tucson\, AZ 85711\, United States)
END:VEVENT
BEGIN:VEVENT
DTSTART;TZID=America/Phoenix:20260416T140000
DTEND;TZID=America/Phoenix:20260416T160000
DTSTAMP:20260419T180833
CREATED:20260218T010049Z
LAST-MODIFIED:20260415T222804Z
UID:10001948-1776348000-1776355200@tpch.net
SUMMARY:TPCH Continuum of Care Board Meeting
DESCRIPTION:Virtual portion available on \nVirtual portion available on Zoom: https://us06web.zoom.us/j/84704187185 \nZoom: https://us06web.zoom.us/j/84704187185
URL:https://tpch.net/event/tpch-continuum-of-care-board-meeting-35/2026-04-16/
LOCATION:310 N. Commerce Park Loop\, 2nd floor Sentinel Building
CATEGORIES:Board Directors
END:VEVENT
END:VCALENDAR