BEGIN:VCALENDAR
VERSION:2.0
PRODID:-//Tucson Pima Collaboration to End Homelessness - ECPv6.15.20//NONSGML v1.0//EN
CALSCALE:GREGORIAN
METHOD:PUBLISH
X-ORIGINAL-URL:https://tpch.net
X-WR-CALDESC:Events for Tucson Pima Collaboration to End Homelessness
REFRESH-INTERVAL;VALUE=DURATION:PT1H
X-Robots-Tag:noindex
X-PUBLISHED-TTL:PT1H
BEGIN:VTIMEZONE
TZID:America/Phoenix
BEGIN:STANDARD
TZOFFSETFROM:-0700
TZOFFSETTO:-0700
TZNAME:MST
DTSTART:20270101T000000
END:STANDARD
END:VTIMEZONE
BEGIN:VEVENT
DTSTART;TZID=America/Phoenix:20280720T140000
DTEND;TZID=America/Phoenix:20280720T160000
DTSTAMP:20260419T225906
CREATED:20260218T010049Z
LAST-MODIFIED:20260415T222804Z
UID:10001975-1847714400-1847721600@tpch.net
SUMMARY:TPCH Continuum of Care Board Meeting
DESCRIPTION:Virtual portion available on \nVirtual portion available on Zoom: https://us06web.zoom.us/j/84704187185 \nZoom: https://us06web.zoom.us/j/84704187185
URL:https://tpch.net/event/tpch-continuum-of-care-board-meeting-35/2028-07-20/
LOCATION:310 N. Commerce Park Loop\, 2nd floor Sentinel Building
CATEGORIES:Board Directors
END:VEVENT
BEGIN:VEVENT
DTSTART;TZID=America/Phoenix:20280810T123000
DTEND;TZID=America/Phoenix:20280810T161500
DTSTAMP:20260419T225906
CREATED:20260416T002017Z
LAST-MODIFIED:20260416T002017Z
UID:10002017-1849523400-1849536900@tpch.net
SUMMARY:General Council Meeting
DESCRIPTION:
URL:https://tpch.net/event/general-council-meeting/2028-08-10/
LOCATION:Community Foundation for Southern Arizona (5049 E Broadway Blvd Ste 201\, Tucson\, AZ 85711\, United States)
END:VEVENT
BEGIN:VEVENT
DTSTART;TZID=America/Phoenix:20280817T140000
DTEND;TZID=America/Phoenix:20280817T160000
DTSTAMP:20260419T225906
CREATED:20260218T010049Z
LAST-MODIFIED:20260415T222804Z
UID:10001976-1850133600-1850140800@tpch.net
SUMMARY:TPCH Continuum of Care Board Meeting
DESCRIPTION:Virtual portion available on \nVirtual portion available on Zoom: https://us06web.zoom.us/j/84704187185 \nZoom: https://us06web.zoom.us/j/84704187185
URL:https://tpch.net/event/tpch-continuum-of-care-board-meeting-35/2028-08-17/
LOCATION:310 N. Commerce Park Loop\, 2nd floor Sentinel Building
CATEGORIES:Board Directors
END:VEVENT
BEGIN:VEVENT
DTSTART;TZID=America/Phoenix:20280921T140000
DTEND;TZID=America/Phoenix:20280921T160000
DTSTAMP:20260419T225906
CREATED:20260218T010049Z
LAST-MODIFIED:20260415T222804Z
UID:10001977-1853157600-1853164800@tpch.net
SUMMARY:TPCH Continuum of Care Board Meeting
DESCRIPTION:Virtual portion available on \nVirtual portion available on Zoom: https://us06web.zoom.us/j/84704187185 \nZoom: https://us06web.zoom.us/j/84704187185
URL:https://tpch.net/event/tpch-continuum-of-care-board-meeting-35/2028-09-21/
LOCATION:310 N. Commerce Park Loop\, 2nd floor Sentinel Building
CATEGORIES:Board Directors
END:VEVENT
BEGIN:VEVENT
DTSTART;TZID=America/Phoenix:20281019T140000
DTEND;TZID=America/Phoenix:20281019T160000
DTSTAMP:20260419T225906
CREATED:20260218T010049Z
LAST-MODIFIED:20260415T222804Z
UID:10001978-1855576800-1855584000@tpch.net
SUMMARY:TPCH Continuum of Care Board Meeting
DESCRIPTION:Virtual portion available on \nVirtual portion available on Zoom: https://us06web.zoom.us/j/84704187185 \nZoom: https://us06web.zoom.us/j/84704187185
URL:https://tpch.net/event/tpch-continuum-of-care-board-meeting-35/2028-10-19/
LOCATION:310 N. Commerce Park Loop\, 2nd floor Sentinel Building
CATEGORIES:Board Directors
END:VEVENT
BEGIN:VEVENT
DTSTART;TZID=America/Phoenix:20281109T123000
DTEND;TZID=America/Phoenix:20281109T161500
DTSTAMP:20260419T225906
CREATED:20260416T002017Z
LAST-MODIFIED:20260416T002017Z
UID:10002018-1857385800-1857399300@tpch.net
SUMMARY:General Council Meeting
DESCRIPTION:
URL:https://tpch.net/event/general-council-meeting/2028-11-09/
LOCATION:Community Foundation for Southern Arizona (5049 E Broadway Blvd Ste 201\, Tucson\, AZ 85711\, United States)
END:VEVENT
BEGIN:VEVENT
DTSTART;TZID=America/Phoenix:20281116T140000
DTEND;TZID=America/Phoenix:20281116T160000
DTSTAMP:20260419T225906
CREATED:20260218T010049Z
LAST-MODIFIED:20260415T222804Z
UID:10001979-1857996000-1858003200@tpch.net
SUMMARY:TPCH Continuum of Care Board Meeting
DESCRIPTION:Virtual portion available on \nVirtual portion available on Zoom: https://us06web.zoom.us/j/84704187185 \nZoom: https://us06web.zoom.us/j/84704187185
URL:https://tpch.net/event/tpch-continuum-of-care-board-meeting-35/2028-11-16/
LOCATION:310 N. Commerce Park Loop\, 2nd floor Sentinel Building
CATEGORIES:Board Directors
END:VEVENT
BEGIN:VEVENT
DTSTART;TZID=America/Phoenix:20281221T140000
DTEND;TZID=America/Phoenix:20281221T160000
DTSTAMP:20260419T225906
CREATED:20260218T010049Z
LAST-MODIFIED:20260415T222804Z
UID:10001980-1861020000-1861027200@tpch.net
SUMMARY:TPCH Continuum of Care Board Meeting
DESCRIPTION:Virtual portion available on \nVirtual portion available on Zoom: https://us06web.zoom.us/j/84704187185 \nZoom: https://us06web.zoom.us/j/84704187185
URL:https://tpch.net/event/tpch-continuum-of-care-board-meeting-35/2028-12-21/
LOCATION:310 N. Commerce Park Loop\, 2nd floor Sentinel Building
CATEGORIES:Board Directors
END:VEVENT
BEGIN:VEVENT
DTSTART;TZID=America/Phoenix:20290118T140000
DTEND;TZID=America/Phoenix:20290118T160000
DTSTAMP:20260419T225906
CREATED:20260218T010049Z
LAST-MODIFIED:20260415T222804Z
UID:10001981-1863439200-1863446400@tpch.net
SUMMARY:TPCH Continuum of Care Board Meeting
DESCRIPTION:Virtual portion available on \nVirtual portion available on Zoom: https://us06web.zoom.us/j/84704187185 \nZoom: https://us06web.zoom.us/j/84704187185
URL:https://tpch.net/event/tpch-continuum-of-care-board-meeting-35/2029-01-18/
LOCATION:310 N. Commerce Park Loop\, 2nd floor Sentinel Building
CATEGORIES:Board Directors
END:VEVENT
BEGIN:VEVENT
DTSTART;TZID=America/Phoenix:20290208T123000
DTEND;TZID=America/Phoenix:20290208T161500
DTSTAMP:20260419T225906
CREATED:20260416T002017Z
LAST-MODIFIED:20260416T002017Z
UID:10002019-1865248200-1865261700@tpch.net
SUMMARY:General Council Meeting
DESCRIPTION:
URL:https://tpch.net/event/general-council-meeting/2029-02-08/
LOCATION:Community Foundation for Southern Arizona (5049 E Broadway Blvd Ste 201\, Tucson\, AZ 85711\, United States)
END:VEVENT
BEGIN:VEVENT
DTSTART;TZID=America/Phoenix:20290215T140000
DTEND;TZID=America/Phoenix:20290215T160000
DTSTAMP:20260419T225906
CREATED:20260218T010049Z
LAST-MODIFIED:20260415T222804Z
UID:10001982-1865858400-1865865600@tpch.net
SUMMARY:TPCH Continuum of Care Board Meeting
DESCRIPTION:Virtual portion available on \nVirtual portion available on Zoom: https://us06web.zoom.us/j/84704187185 \nZoom: https://us06web.zoom.us/j/84704187185
URL:https://tpch.net/event/tpch-continuum-of-care-board-meeting-35/2029-02-15/
LOCATION:310 N. Commerce Park Loop\, 2nd floor Sentinel Building
CATEGORIES:Board Directors
END:VEVENT
BEGIN:VEVENT
DTSTART;TZID=America/Phoenix:20290315T140000
DTEND;TZID=America/Phoenix:20290315T160000
DTSTAMP:20260419T225906
CREATED:20260218T010049Z
LAST-MODIFIED:20260415T222804Z
UID:10001983-1868277600-1868284800@tpch.net
SUMMARY:TPCH Continuum of Care Board Meeting
DESCRIPTION:Virtual portion available on \nVirtual portion available on Zoom: https://us06web.zoom.us/j/84704187185 \nZoom: https://us06web.zoom.us/j/84704187185
URL:https://tpch.net/event/tpch-continuum-of-care-board-meeting-35/2029-03-15/
LOCATION:310 N. Commerce Park Loop\, 2nd floor Sentinel Building
CATEGORIES:Board Directors
END:VEVENT
BEGIN:VEVENT
DTSTART;TZID=America/Phoenix:20290419T140000
DTEND;TZID=America/Phoenix:20290419T160000
DTSTAMP:20260419T225906
CREATED:20260218T010049Z
LAST-MODIFIED:20260415T222804Z
UID:10001984-1871301600-1871308800@tpch.net
SUMMARY:TPCH Continuum of Care Board Meeting
DESCRIPTION:Virtual portion available on \nVirtual portion available on Zoom: https://us06web.zoom.us/j/84704187185 \nZoom: https://us06web.zoom.us/j/84704187185
URL:https://tpch.net/event/tpch-continuum-of-care-board-meeting-35/2029-04-19/
LOCATION:310 N. Commerce Park Loop\, 2nd floor Sentinel Building
CATEGORIES:Board Directors
END:VEVENT
BEGIN:VEVENT
DTSTART;TZID=America/Phoenix:20290510T123000
DTEND;TZID=America/Phoenix:20290510T161500
DTSTAMP:20260419T225906
CREATED:20260416T002017Z
LAST-MODIFIED:20260416T002017Z
UID:10002020-1873110600-1873124100@tpch.net
SUMMARY:General Council Meeting
DESCRIPTION:
URL:https://tpch.net/event/general-council-meeting/2029-05-10/
LOCATION:Community Foundation for Southern Arizona (5049 E Broadway Blvd Ste 201\, Tucson\, AZ 85711\, United States)
END:VEVENT
BEGIN:VEVENT
DTSTART;TZID=America/Phoenix:20290517T140000
DTEND;TZID=America/Phoenix:20290517T160000
DTSTAMP:20260419T225906
CREATED:20260218T010049Z
LAST-MODIFIED:20260415T222804Z
UID:10001985-1873720800-1873728000@tpch.net
SUMMARY:TPCH Continuum of Care Board Meeting
DESCRIPTION:Virtual portion available on \nVirtual portion available on Zoom: https://us06web.zoom.us/j/84704187185 \nZoom: https://us06web.zoom.us/j/84704187185
URL:https://tpch.net/event/tpch-continuum-of-care-board-meeting-35/2029-05-17/
LOCATION:310 N. Commerce Park Loop\, 2nd floor Sentinel Building
CATEGORIES:Board Directors
END:VEVENT
BEGIN:VEVENT
DTSTART;TZID=America/Phoenix:20290621T140000
DTEND;TZID=America/Phoenix:20290621T160000
DTSTAMP:20260419T225906
CREATED:20260218T010049Z
LAST-MODIFIED:20260415T222804Z
UID:10001986-1876744800-1876752000@tpch.net
SUMMARY:TPCH Continuum of Care Board Meeting
DESCRIPTION:Virtual portion available on \nVirtual portion available on Zoom: https://us06web.zoom.us/j/84704187185 \nZoom: https://us06web.zoom.us/j/84704187185
URL:https://tpch.net/event/tpch-continuum-of-care-board-meeting-35/2029-06-21/
LOCATION:310 N. Commerce Park Loop\, 2nd floor Sentinel Building
CATEGORIES:Board Directors
END:VEVENT
BEGIN:VEVENT
DTSTART;TZID=America/Phoenix:20290719T140000
DTEND;TZID=America/Phoenix:20290719T160000
DTSTAMP:20260419T225906
CREATED:20260218T010049Z
LAST-MODIFIED:20260415T222804Z
UID:10001987-1879164000-1879171200@tpch.net
SUMMARY:TPCH Continuum of Care Board Meeting
DESCRIPTION:Virtual portion available on \nVirtual portion available on Zoom: https://us06web.zoom.us/j/84704187185 \nZoom: https://us06web.zoom.us/j/84704187185
URL:https://tpch.net/event/tpch-continuum-of-care-board-meeting-35/2029-07-19/
LOCATION:310 N. Commerce Park Loop\, 2nd floor Sentinel Building
CATEGORIES:Board Directors
END:VEVENT
BEGIN:VEVENT
DTSTART;TZID=America/Phoenix:20290809T123000
DTEND;TZID=America/Phoenix:20290809T161500
DTSTAMP:20260419T225906
CREATED:20260416T002017Z
LAST-MODIFIED:20260416T002017Z
UID:10002021-1880973000-1880986500@tpch.net
SUMMARY:General Council Meeting
DESCRIPTION:
URL:https://tpch.net/event/general-council-meeting/2029-08-09/
LOCATION:Community Foundation for Southern Arizona (5049 E Broadway Blvd Ste 201\, Tucson\, AZ 85711\, United States)
END:VEVENT
BEGIN:VEVENT
DTSTART;TZID=America/Phoenix:20290816T140000
DTEND;TZID=America/Phoenix:20290816T160000
DTSTAMP:20260419T225906
CREATED:20260218T010049Z
LAST-MODIFIED:20260415T222804Z
UID:10001988-1881583200-1881590400@tpch.net
SUMMARY:TPCH Continuum of Care Board Meeting
DESCRIPTION:Virtual portion available on \nVirtual portion available on Zoom: https://us06web.zoom.us/j/84704187185 \nZoom: https://us06web.zoom.us/j/84704187185
URL:https://tpch.net/event/tpch-continuum-of-care-board-meeting-35/2029-08-16/
LOCATION:310 N. Commerce Park Loop\, 2nd floor Sentinel Building
CATEGORIES:Board Directors
END:VEVENT
BEGIN:VEVENT
DTSTART;TZID=America/Phoenix:20290920T140000
DTEND;TZID=America/Phoenix:20290920T160000
DTSTAMP:20260419T225906
CREATED:20260218T010049Z
LAST-MODIFIED:20260415T222804Z
UID:10001989-1884607200-1884614400@tpch.net
SUMMARY:TPCH Continuum of Care Board Meeting
DESCRIPTION:Virtual portion available on \nVirtual portion available on Zoom: https://us06web.zoom.us/j/84704187185 \nZoom: https://us06web.zoom.us/j/84704187185
URL:https://tpch.net/event/tpch-continuum-of-care-board-meeting-35/2029-09-20/
LOCATION:310 N. Commerce Park Loop\, 2nd floor Sentinel Building
CATEGORIES:Board Directors
END:VEVENT
BEGIN:VEVENT
DTSTART;TZID=America/Phoenix:20291018T140000
DTEND;TZID=America/Phoenix:20291018T160000
DTSTAMP:20260419T225906
CREATED:20260218T010049Z
LAST-MODIFIED:20260415T222804Z
UID:10001990-1887026400-1887033600@tpch.net
SUMMARY:TPCH Continuum of Care Board Meeting
DESCRIPTION:Virtual portion available on \nVirtual portion available on Zoom: https://us06web.zoom.us/j/84704187185 \nZoom: https://us06web.zoom.us/j/84704187185
URL:https://tpch.net/event/tpch-continuum-of-care-board-meeting-35/2029-10-18/
LOCATION:310 N. Commerce Park Loop\, 2nd floor Sentinel Building
CATEGORIES:Board Directors
END:VEVENT
BEGIN:VEVENT
DTSTART;TZID=America/Phoenix:20291108T123000
DTEND;TZID=America/Phoenix:20291108T161500
DTSTAMP:20260419T225906
CREATED:20260416T002017Z
LAST-MODIFIED:20260416T002017Z
UID:10002022-1888835400-1888848900@tpch.net
SUMMARY:General Council Meeting
DESCRIPTION:
URL:https://tpch.net/event/general-council-meeting/2029-11-08/
LOCATION:Community Foundation for Southern Arizona (5049 E Broadway Blvd Ste 201\, Tucson\, AZ 85711\, United States)
END:VEVENT
BEGIN:VEVENT
DTSTART;TZID=America/Phoenix:20291115T140000
DTEND;TZID=America/Phoenix:20291115T160000
DTSTAMP:20260419T225906
CREATED:20260218T010049Z
LAST-MODIFIED:20260415T222804Z
UID:10001991-1889445600-1889452800@tpch.net
SUMMARY:TPCH Continuum of Care Board Meeting
DESCRIPTION:Virtual portion available on \nVirtual portion available on Zoom: https://us06web.zoom.us/j/84704187185 \nZoom: https://us06web.zoom.us/j/84704187185
URL:https://tpch.net/event/tpch-continuum-of-care-board-meeting-35/2029-11-15/
LOCATION:310 N. Commerce Park Loop\, 2nd floor Sentinel Building
CATEGORIES:Board Directors
END:VEVENT
BEGIN:VEVENT
DTSTART;TZID=America/Phoenix:20291220T140000
DTEND;TZID=America/Phoenix:20291220T160000
DTSTAMP:20260419T225906
CREATED:20260218T010049Z
LAST-MODIFIED:20260415T222804Z
UID:10001992-1892469600-1892476800@tpch.net
SUMMARY:TPCH Continuum of Care Board Meeting
DESCRIPTION:Virtual portion available on \nVirtual portion available on Zoom: https://us06web.zoom.us/j/84704187185 \nZoom: https://us06web.zoom.us/j/84704187185
URL:https://tpch.net/event/tpch-continuum-of-care-board-meeting-35/2029-12-20/
LOCATION:310 N. Commerce Park Loop\, 2nd floor Sentinel Building
CATEGORIES:Board Directors
END:VEVENT
BEGIN:VEVENT
DTSTART;TZID=America/Phoenix:20300117T140000
DTEND;TZID=America/Phoenix:20300117T160000
DTSTAMP:20260419T225906
CREATED:20260218T010049Z
LAST-MODIFIED:20260415T222804Z
UID:10001993-1894888800-1894896000@tpch.net
SUMMARY:TPCH Continuum of Care Board Meeting
DESCRIPTION:Virtual portion available on \nVirtual portion available on Zoom: https://us06web.zoom.us/j/84704187185 \nZoom: https://us06web.zoom.us/j/84704187185
URL:https://tpch.net/event/tpch-continuum-of-care-board-meeting-35/2030-01-17/
LOCATION:310 N. Commerce Park Loop\, 2nd floor Sentinel Building
CATEGORIES:Board Directors
END:VEVENT
BEGIN:VEVENT
DTSTART;TZID=America/Phoenix:20300214T123000
DTEND;TZID=America/Phoenix:20300214T161500
DTSTAMP:20260419T225906
CREATED:20260416T002017Z
LAST-MODIFIED:20260416T002017Z
UID:10002023-1897302600-1897316100@tpch.net
SUMMARY:General Council Meeting
DESCRIPTION:
URL:https://tpch.net/event/general-council-meeting/2030-02-14/
LOCATION:Community Foundation for Southern Arizona (5049 E Broadway Blvd Ste 201\, Tucson\, AZ 85711\, United States)
END:VEVENT
BEGIN:VEVENT
DTSTART;TZID=America/Phoenix:20300221T140000
DTEND;TZID=America/Phoenix:20300221T160000
DTSTAMP:20260419T225906
CREATED:20260218T010049Z
LAST-MODIFIED:20260415T222804Z
UID:10001994-1897912800-1897920000@tpch.net
SUMMARY:TPCH Continuum of Care Board Meeting
DESCRIPTION:Virtual portion available on \nVirtual portion available on Zoom: https://us06web.zoom.us/j/84704187185 \nZoom: https://us06web.zoom.us/j/84704187185
URL:https://tpch.net/event/tpch-continuum-of-care-board-meeting-35/2030-02-21/
LOCATION:310 N. Commerce Park Loop\, 2nd floor Sentinel Building
CATEGORIES:Board Directors
END:VEVENT
BEGIN:VEVENT
DTSTART;TZID=America/Phoenix:20300321T140000
DTEND;TZID=America/Phoenix:20300321T160000
DTSTAMP:20260419T225907
CREATED:20260218T010049Z
LAST-MODIFIED:20260415T222804Z
UID:10001995-1900332000-1900339200@tpch.net
SUMMARY:TPCH Continuum of Care Board Meeting
DESCRIPTION:Virtual portion available on \nVirtual portion available on Zoom: https://us06web.zoom.us/j/84704187185 \nZoom: https://us06web.zoom.us/j/84704187185
URL:https://tpch.net/event/tpch-continuum-of-care-board-meeting-35/2030-03-21/
LOCATION:310 N. Commerce Park Loop\, 2nd floor Sentinel Building
CATEGORIES:Board Directors
END:VEVENT
BEGIN:VEVENT
DTSTART;TZID=America/Phoenix:20300418T140000
DTEND;TZID=America/Phoenix:20300418T160000
DTSTAMP:20260419T225907
CREATED:20260218T010049Z
LAST-MODIFIED:20260415T222804Z
UID:10001996-1902751200-1902758400@tpch.net
SUMMARY:TPCH Continuum of Care Board Meeting
DESCRIPTION:Virtual portion available on \nVirtual portion available on Zoom: https://us06web.zoom.us/j/84704187185 \nZoom: https://us06web.zoom.us/j/84704187185
URL:https://tpch.net/event/tpch-continuum-of-care-board-meeting-35/2030-04-18/
LOCATION:310 N. Commerce Park Loop\, 2nd floor Sentinel Building
CATEGORIES:Board Directors
END:VEVENT
BEGIN:VEVENT
DTSTART;TZID=America/Phoenix:20300509T123000
DTEND;TZID=America/Phoenix:20300509T161500
DTSTAMP:20260419T225907
CREATED:20260416T002017Z
LAST-MODIFIED:20260416T002017Z
UID:10002024-1904560200-1904573700@tpch.net
SUMMARY:General Council Meeting
DESCRIPTION:
URL:https://tpch.net/event/general-council-meeting/2030-05-09/
LOCATION:Community Foundation for Southern Arizona (5049 E Broadway Blvd Ste 201\, Tucson\, AZ 85711\, United States)
END:VEVENT
END:VCALENDAR